BEGIN:VCALENDAR
METHOD:PUBLISH
VERSION:2.0
PRODID:-//hacksw/handcal//NONSGML v1.0//EN
X-WR-TIMEZONE:Australia/Melbourne
CALSCALE:GREGORIAN
BEGIN:VEVENT
DTSTART;TZID=Australia/Melbourne:20260519T150000
DTEND;TZID=Australia/Melbourne:20260519T170000
UID:70692235606956F2A26DC28025132624123711412306956F2A26DC4466520276
DTSTAMP:20260423T010259
LOCATION:Leopold Sporties Club, 135 Kensington Road, Leopold
DESCRIPTION:Committee Meeting. 
URL;VALUE=URI:http://bellarinehistoricvehicleclub.com/events/view.php?id=7
 0692235606956F2A26DC28025132624123711412306956F2A26DC4466520276
SUMMARY:BHVC Committee Meeting 
END:VEVENT
END:VCALENDAR
