BEGIN:VCALENDAR
METHOD:PUBLISH
VERSION:2.0
PRODID:-//hacksw/handcal//NONSGML v1.0//EN
X-WR-TIMEZONE:Australia/Melbourne
CALSCALE:GREGORIAN
BEGIN:VEVENT
DTSTART;TZID=Australia/Melbourne:20260521T183000
DTEND;TZID=Australia/Melbourne:20260521T210000
UID:53019181506956F3425111D73088518706956F3425112D702041764106038363
DTSTAMP:20260424T011409
LOCATION:Drysdale Pizza, 26-28 High Street, Drysdale
DESCRIPTION:Meet up together for a Club dinner at this popular venue. 
URL;VALUE=URI:http://bellarinehistoricvehicleclub.com/events/view.php?id=5
 3019181506956F3425111D73088518706956F3425112D702041764106038363
SUMMARY:BHVC Club Dinner
END:VEVENT
END:VCALENDAR
