BEGIN:VCALENDAR
METHOD:PUBLISH
VERSION:2.0
PRODID:-//hacksw/handcal//NONSGML v1.0//EN
X-WR-TIMEZONE:Australia/Melbourne
CALSCALE:GREGORIAN
BEGIN:VEVENT
DTSTART;TZID=Australia/Melbourne:20260517T090000
DTEND;TZID=Australia/Melbourne:20260517T150000
UID:159057518676956F22317115470457177159057518676956F2231712A1189814
DTSTAMP:20260420T134207
LOCATION:Gisborne Steam and Vintage Festival, 10 Webb Crescent, New Gisbor
 ne
DESCRIPTION:An all day event. Walk around vintage machinery, watch a tract
 or pull, miniature train display and rides, stall holders, food vendors an
 d more. Members are encouraged to drive their plated vehicle to display. V
 intage or classic vehicles and drivers are free, adult passengers $10 each
 . Entry fees apply. BYO lunch or purchase from vendors. PLEASE NOTE: This 
 is also National Motoring Heritage Day
URL;VALUE=URI:http://bellarinehistoricvehicleclub.com/events/view.php?id=1
 59057518676956F22317115470457177159057518676956F2231712A1189814
SUMMARY:BHVC Car Run & Festival
END:VEVENT
END:VCALENDAR
